BEGIN:VCALENDAR
VERSION:2.0
PRODID:-//Firma Ppoż HAZ-CON - ECPv6.15.18//NONSGML v1.0//EN
CALSCALE:GREGORIAN
METHOD:PUBLISH
X-ORIGINAL-URL:https://haz-con.com
X-WR-CALDESC:Wydarzenia dla Firma Ppoż HAZ-CON
REFRESH-INTERVAL;VALUE=DURATION:PT1H
X-Robots-Tag:noindex
X-PUBLISHED-TTL:PT1H
BEGIN:VTIMEZONE
TZID:Europe/Warsaw
BEGIN:DAYLIGHT
TZOFFSETFROM:+0100
TZOFFSETTO:+0200
TZNAME:CEST
DTSTART:20250330T010000
END:DAYLIGHT
BEGIN:STANDARD
TZOFFSETFROM:+0200
TZOFFSETTO:+0100
TZNAME:CET
DTSTART:20251026T010000
END:STANDARD
BEGIN:DAYLIGHT
TZOFFSETFROM:+0100
TZOFFSETTO:+0200
TZNAME:CEST
DTSTART:20260329T010000
END:DAYLIGHT
BEGIN:STANDARD
TZOFFSETFROM:+0200
TZOFFSETTO:+0100
TZNAME:CET
DTSTART:20261025T010000
END:STANDARD
BEGIN:DAYLIGHT
TZOFFSETFROM:+0100
TZOFFSETTO:+0200
TZNAME:CEST
DTSTART:20270328T010000
END:DAYLIGHT
BEGIN:STANDARD
TZOFFSETFROM:+0200
TZOFFSETTO:+0100
TZNAME:CET
DTSTART:20271031T010000
END:STANDARD
END:VTIMEZONE
BEGIN:VEVENT
DTSTART;TZID=Europe/Warsaw:20260515T090000
DTEND;TZID=Europe/Warsaw:20260515T150000
DTSTAMP:20260423T154216
CREATED:20260325T000400Z
LAST-MODIFIED:20260325T000923Z
UID:2115-1778835600-1778857200@haz-con.com
SUMMARY:WARSZTAT PRAKTYCZNY „Tworzenie kart charakterystyki (SDS) – krok po kroku zgodnie z 2020/878 i praktyką 2026”
DESCRIPTION:Karta charakterystyki nie jest dokumentem wyłącznie formalnym.W praktyce stanowi jeden z podstawowych elementów weryfikowanych podczas kontroli organów nadzoru (Państwowa Inspekcja Sanitarna\, PIP\, WIOŚ). \nNajczęstsze niezgodności nie wynikają z braku znajomości przepisów\, lecz z: \n\nbraku spójności pomiędzy sekcjami SDS\,\nnieprawidłowego ujawniania składu (sekcja 3.2)\,\nniewłaściwego powiązania klasyfikacji z treścią pozostałych sekcji\,\nbezrefleksyjnego wykorzystania danych generowanych automatycznie.\n\nWarsztat został zaprojektowany w oparciu o rzeczywiste problemy identyfikowane podczas kontroli oraz audytów dokumentacji. \nCharakter warsztatu\nSzkolenie ma formę warsztatową i koncentruje się na pracy na rzeczywistym dokumencie. \nW trakcie zajęć uczestnicy: \n\npracują wraz z prowadzącym na przygotowanej mieszaninie\,\nuzupełniają kartę charakterystyki sekcja po sekcji\,\nanalizują spójność i poprawność zapisów.\n\nZakres warsztatu nie obejmuje obliczania klasyfikacji – skupiamy się na poprawnym opracowaniu SDS na podstawie dostępnych danych. \nInformacje organizacyjne\nTermin: 15 maja 2026 r.Godzina: 9:00–15:00Forma: szkolenie online (ZOOM – na żywo)Czas trwania: 6 godzin \nCena\n1100 zł netto + 23% VAT \n990 zł netto/os. + 23% VAT – przy zgłoszeniu więcej niż 1 osoby z firmy \n\nGrupa docelowa\nWarsztat skierowany jest do osób\, które w praktyce opracowują lub nadzorują karty charakterystyki: \n\nspecjaliści ds. bezpieczeństwa chemicznego (REACH / CLP)\,\nosoby tworzące SDS\,\nspecjaliści ds. BHP\,\nproducenci i importerzy substancji oraz mieszanin.\n\nMetodyka pracy\nWarsztat prowadzony jest w formule „step-by-step”. \nUczestnicy pracują równolegle z prowadzącym: \n\nna szablonie SDS\,\nz wykorzystaniem dostarczonych danych (skład\, klasyfikacja\, właściwości fizykochemiczne).\n\nUwzględnione są różnice w pracy: \n\nw systemach do generowania SDS\,\nw środowisku manualnym (Word / Excel).\n\n\nProgram warsztatu\n1. Perspektywa kontroli\n\nzakres weryfikacji SDS przez organy nadzoru\,\nnajczęstsze niezgodności identyfikowane w praktyce\,\nznaczenie spójności dokumentu.\n\n2. Opracowanie SDS – sekcje 1–8\nm.in.: \n\nidentyfikacja substancji/mieszaniny\,\nklasyfikacja i oznakowanie (interpretacja i przeniesienie danych)\,\nskład (sekcja 3.2 – zasady ujawniania)\,\nśrodki pierwszej pomocy i postępowanie w sytuacjach awaryjnych\,\nwarunki stosowania i środki ochrony indywidualnej.\n\n3. Opracowanie SDS – sekcje 9–16\nm.in.: \n\nwłaściwości fizykochemiczne\,\nstabilność i reaktywność\,\ninformacje toksykologiczne i ekologiczne\,\npostępowanie z odpadami\,\ntransport\,\nprzepisy prawne (sekcja 15)\,\ninformacje dodatkowe (sekcja 16).\n\n4. Spójność dokumentu\nm.in.: \n\nrelacja pomiędzy sekcjami 2 i 3\,\npowiązanie klasyfikacji z sekcjami 8\, 11 i 12\,\nidentyfikacja niespójności.\n\n5. Przyczyny powstawania błędów\n\nograniczenia systemów automatycznych\,\nbłędy danych wejściowych\,\nróżnice pomiędzy pracą w systemie a pracą manualną.\n\n6. Zadanie końcowe\nUczestnicy otrzymują nowy przypadek do samodzielnego opracowania SDS. \nW ciągu 7 dni uczestnik przygotowuje kartę charakterystyki na podstawie otrzymanych danych – jeśli tylko chce. \n\nMateriały szkoleniowe\nUczestnicy otrzymują: \n\nszablon SDS \,\nstrukturę SDS\,\nchecklistę weryfikacyjną SDS\,\nzestaw najczęstszych błędów identyfikowanych podczas kontroli\,\nmateriały warsztatowe.\n\n\nProwadzący\nMagdalena HylaEkspert ds. bezpieczeństwa chemicznego \nSpecjalizuje się w zakresie: \n\nREACH i CLP\,\nkart charakterystyki\,\noceny ryzyka chemicznego\,\nprzygotowania dokumentacji zgodnej z wymaganiami UE.\n\nSzkolenia oparte są na doświadczeniu praktycznym oraz analizie rzeczywistych przypadków niezgodności. \nRejestracja\nAby zapisać się na warsztat\, prosimy o wypełnienie formularza zgłoszeniowego. \nPo rejestracji uczestnik otrzymuje potwierdzenie udziału oraz informacje organizacyjne. \nOrganizator zastrzega możliwość odwołania szkolenia w przypadku nieosiągnięcia minimalnej liczby uczestników. \nInformacja końcowa\nWarsztat ma charakter praktyczny i wymaga aktywnego udziału uczestników.Z uwagi na formułę pracy liczba miejsc jest ograniczona. \n 
URL:https://haz-con.com/szkolenia/warsztat-praktyczny-tworzenie-kart-charakterystyki-sds-krok-po-kroku-zgodnie-z-2020-878-i-praktyka-2026/
LOCATION:On-line (ZOOM)\, Poland
CATEGORIES:REACH
ATTACH;FMTTYPE=image/png:https://haz-con.com/wp-content/uploads/2026/03/DIIZO-ONLINE-PROMO-6.png
END:VEVENT
BEGIN:VEVENT
DTSTART;TZID=Europe/Warsaw:20260522T090000
DTEND;TZID=Europe/Warsaw:20260522T150000
DTSTAMP:20260423T154216
CREATED:20260107T092814Z
LAST-MODIFIED:20260119T113312Z
UID:1978-1779440400-1779462000@haz-con.com
SUMMARY:Szkolenie zawodowe dla Specjalistów ds. BHP – diizocyjaniany (online)
DESCRIPTION:Szkolenie z diizocyjanianów zgodnie z REACH 2020/1149 to specjalistyczne szkolenie online dla Specjalistów ds. BHP\, przygotowujące do samodzielnego prowadzenia obowiązkowych szkoleń z bezpiecznego stosowania diizocyjanianów\, wymaganych przez rozporządzenie Komisji (UE) 2020/1149\, zmieniające załącznik XVII do rozporządzenia REACH (WE nr 1907/2006). Szkolenie prowadzone jest przez eksperta z wieloletnim doświadczeniem w bezpieczeństwie chemicznym. \nTermin: 22 maja 2026 r.\nGodzina: 9:00–15:00\nForma: szkolenie online (ZOOM – na żywo) \nSzkolenie zawodowe z diizocyjanianów zgodnie z REACH 2020/1149 – dla Specjalistów ds. BHP\nZapraszamy na specjalistyczne szkolenie online dla Specjalistów ds. BHP\, przygotowujące do samodzielnego prowadzenia obowiązkowych szkoleń z bezpiecznego stosowania diizocyjanianów\, wymaganych przez rozporządzenie Komisji (UE) 2020/1149\, zmieniające załącznik XVII do rozporządzenia REACH (WE nr 1907/2006). Szkolenie prowadzone jest przez eksperta z wieloletnim doświadczeniem w bezpieczeństwie chemicznym. \nPo ukończeniu szkolenia uczestnicy otrzymują imienne zaświadczenie\, potwierdzające kwalifikacje do prowadzenia szkoleń zgodnych z REACH. \nNajważniejsze informacje organizacyjne\n\nForma: online (ZOOM – szkolenie na żywo)\, korzystanie z kamery nie jest obowiązkowe.\nCertyfikat: imienny\, zgodny z REACH\nCzas trwania: 6 godzin + test końcowy\nGrupa docelowa: Specjaliści ds. BHP\, osoby prowadzące szkolenia\, doradcy BHP\nCharakter szkolenia: zawodowy / ekspercki\n\nCena szkolenia \n1100 zł netto + 23% VAT (1353 zł brutto)\n990 zł netto/os. + VAT – przy zgłoszeniu więcej niż 1 osoby z firmy \nPłatności: \n\nosoby prywatne – płatność online 1 dzień przed szkoleniem\nfirmy – faktura VAT\, termin płatności 14 dni\n\nCel szkolenia z diizocyjanianów – dlaczego jest wymagany przez REACH?\nObowiązek przeprowadzenia szkolenia z bezpiecznego stosowania diizocyjanianów wynika bezpośrednio z rozporządzenia REACH\, w szczególności z załącznika XVII (pozycja 74)\, zmienionego rozporządzeniem Komisji (UE) 2020/1149. \nZgodnie z przepisami\, przed rozpoczęciem pracy z diizocyjanianami użytkownicy przemysłowi i profesjonalni muszą zostać przeszkoleni przez osobę posiadającą odpowiednie kwalifikacje. \nNa szkoleniu dowiesz się kto może prowadzić szkolenie z diizocyjanianów oraz kto odpowiada za przygotowanie materiałów i szkoleń dotyczących bezpiecznego stosowania diizocyjanianów. \nProgram szkolenia z diizocyjanianów – zakres i wymagania REACH\n\nzagrożenia zdrowotne związane z narażeniem na diizocyjaniany\nobowiązki pracodawców i użytkowników wynikające z REACH\nwymagania rozporządzenia (UE) 2020/1149 – co\, kogo i kiedy szkolić\nzasady bezpiecznego stosowania\, magazynowania i oznakowania\nśrodki ochrony indywidualnej i zbiorowej\ndokumentowanie szkoleń i spełnienie wymagań formalnych\nprzygotowanie do prowadzenia własnych szkoleń BHP\n\nEfekty uczenia się (Learning Outcomes)\nPo ukończeniu szkolenia uczestnik: \n✔ zna wymagania prawne dotyczące diizocyjanianów (REACH\, UE 2020/1149)\n✔ potrafi identyfikować zagrożenia zdrowotne\n✔ rozumie zasady ochrony pracowników i kontroli narażenia\n✔ jest przygotowany do prowadzenia obowiązkowych szkoleń\n✔ potrafi prawidłowo dokumentować szkolenia zgodnie z przepisami \nHarmonogram szkolenia\n🕘 8:00–14:00\, w tym 2 × po 15 minut przerwy i 1 przerwa 30 minutowa. \nTest końcowy: min. 30 minut. \nCO OTRZYMASZ W RAMACH SZKOLENIA\nCo otrzymuje uczestnik w ramach szkolenia? \nW ramach szkolenia uczestnicy otrzymują kompletny pakiet materiałów wspierających samodzielne prowadzenie szkoleń oraz wdrażanie wymagań rozporządzenia REACH w praktyce: \n✔ prezentację szkoleniową ze szkolenia przedmiotowego\,✔ przykładowy wzór imiennego certyfikatu/zaświadczenia ze szkolenia z bezpiecznego stosowania diizocyjanianów\,✔ przykładowy test sprawdzający wiedzę dla szkolonych pracowników\,✔ instrukcję bezpiecznej pracy z diizocyjanianami – gotową do wydruku (PDF)\,✔ materiały pomocnicze ułatwiające dokumentowanie szkoleń zgodnie z wymaganiami REACH. \nMateriały mogą być wykorzystywane w pracy własnej uczestnika w zakresie organizowania i prowadzenia szkoleń BHP oraz dokumentowania spełnienia obowiązków wynikających z rozporządzenia (UE) 2020/1149. \n\nProwadzący\nMagdalena Hyla – Ekspert ds. bezpieczeństwa chemicznego \nMagdalena Hyla to ekspertka z ponad 11-letnim doświadczeniem w zakresie bezpieczeństwa chemicznego\, zarządzania substancjami chemicznymi oraz oceny ryzyka zawodowego. Specjalizuje się w zagadnieniach związanych z diizocyjanianami\, regulacjami i  zagrożeniami chemicznymi\, szkoleniami oraz ochroną przeciwpożarową. \nPosiada certyfikat Safety Expert on Diisocyanates (ISOPA/ALIPA). Ukończyła studia inżynierskie na kierunku inżynieria chemiczna i procesowa oraz studia podyplomowe „Bezpieczeństwo w użytkowaniu i zarządzaniu substancjami chemicznymi”. \nSzkolenia łączą wymagania REACH z praktycznym podejściem do bezpieczeństwa chemicznego i realnych problemów spotykanych w zakładach pracy. \n⭐ Opinie uczestników szkoleń\n\n„Pani Magdaleno\, serdecznie dziękuję za wspaniałe i bardzo merytoryczne szkolenie.Przekazany ogrom wiedzy oraz praktyczne rozwiązania będę wykorzystywać w swojej praktyce zawodowej niejednokrotnie.Szkolenie rozjaśniło mi w prosty i przejrzysty sposób wiele problemów\, z którymi spotykałam się w kontakcie z substancjami chemicznymi.W przyszłości na pewno skorzystam z organizowanych przez Panią szkoleń.” \n— Pani Agnieszka\, uczestniczka szkolenia \n\n\nChcesz prowadzić szkolenia z diizocyjanianów zgodnie z prawem UE?\nPodczas szkolenia dowiesz się: \n\nkto może prowadzić szkolenia\,\nkto odpowiada za materiały\,\njak zabezpieczyć się formalnie jako BHP-owiec.\n\n👉 Zarejestruj się i poznaj pełne wymagania \nRejestracja\nAby zapisać się na szkolenie\, wypełnij formularz zgłoszeniowy poniżej.\nPo rejestracji otrzymasz potwierdzenie udziału oraz szczegóły organizacyjne.\nOrganizator zastrzega sobie prawo do odwołania szkolenia w przypadku nieosiągnięcia minimalnej liczby uczestników.\nW takiej sytuacji uczestnicy zostaną poinformowani niezwłocznie\, a wszelkie dokonane płatności zostaną zwrócone lub – za zgodą uczestnika – przeniesione na inny termin szkolenia. \nAby wypełnić ten formularz\, włącz obsługę JavaScript w przeglądarce.Aby wypełnić ten formularz\, włącz obsługę JavaScript w przeglądarce.NAZWA SZKOLENIA *--- Wskaż opcję do wyboru ---Substancje CMR – rakotwórcze\, mutagenne\, reprotoksyczneSzkolenie zawodowe dla Specjalistów ds. BHP – diizocyjaniany (online)Data szkolenia *--- Wskaż opcję do wyboru ---23.01.202620.03.202622.05.202625.09.202627.11.2026Faktura *TAKNIEDane adresowe do wystawienia faktury - nazwa firmy\, adres\, NIP (jeśli zaznaczono opcję FAKTURA - TAK)Imię i nazwisko *PierwszyOstatniAdres e-mail do szkolenia on-line *Telefon *Uwagi do zapisu na szkolenie on-line		\n			przetwarzanie Uwagi szkolenia\n			\n		\n		Zgoda na przetwarzanie danych osobowych w celu zapisu na szkolenie on-line *Wyrażam zgodę na przetwarzanie moich danych w celu realizacji zapisu na szkolenie on-lineZapisz się na szkolenie on-line  \nSzkolenie z diizocyjanianów – najczęściej zadawane pytania (FAQ)\nJaki jest cel szkolenia z bezpiecznego stosowania diizocyjanianów zgodnie z REACH?\nCelem szkolenia jest przygotowanie Specjalistów ds. BHP oraz osób prowadzących szkolenia do prawidłowego i zgodnego z prawem UE przeprowadzania obowiązkowych szkoleń z bezpiecznego stosowania diizocyjanianów\, wymaganych przez rozporządzenie Komisji (UE) 2020/1149 zmieniające załącznik XVII do rozporządzenia REACH. \nSzkolenie koncentruje się na wymaganiach prawnych\, odpowiedzialności oraz praktycznej wiedzy z zakresu bezpieczeństwa stosowania diizocyjanianów. \nCzy po ukończeniu szkolenia mogę prowadzić szkolenia z bezpiecznego stosowania diizocyjanianów?\nTak – pod warunkiem spełnienia wymagań określonych w rozporządzeniu REACH. \nZgodnie z załącznikiem XVII do rozporządzenia REACH (pozycja 74) oraz wyjaśnieniami Europejskiej Agencji Chemikaliów (ECHA\, Q&A – pytanie nr 1916)\, osoba prowadząca szkolenie musi być w stanie potwierdzić swoje kwalifikacje jako osoba kompetentna w zakresie bezpieczeństwa i higieny pracy oraz posiadać kompetencje w dziedzinach istotnych dla ograniczenia\, zdobyte na drodze szkolenia zawodowego. \nPrzepisy nie precyzują konkretnych typów szkoleń ani jednego formalnego certyfikatu\, który automatycznie nadawałby uprawnienia do prowadzenia takich szkoleń. Kluczowe jest posiadanie odpowiednich kwalifikacji zawodowych oraz rzeczywiste przygotowanie merytoryczne do prowadzenia szkoleń. \nNasze szkolenie zostało opracowane przez certyfikowanego eksperta ISOPA/ALIPA na podstawie wieloletniego doświadczenia w obszarze EHS\, bezpieczeństwa chemicznego oraz regulacji chemicznych\, z wykształceniem inżynierskim w zakresie inżynierii procesów chemicznych. Program szkolenia wykracza poza standardowy zakres szkoleń pracowniczych i przygotowuje uczestników do samodzielnego prowadzenia szkoleń\, oceny narażenia oraz prawidłowego dokumentowania szkoleń zgodnie z wymaganiami rozporządzenia REACH. \nCo obejmuje program szkolenia z diizocyjanianów?\nProgram szkolenia obejmuje zagrożenia zdrowotne związane z narażeniem na diizocyjaniany\, obowiązki pracodawców i użytkowników\, wymagania rozporządzenia UE 2020/1149\, zasady bezpiecznego stosowania\, magazynowania i oznakowania\, środki ochrony\, dokumentację szkoleniową oraz przygotowanie do prowadzenia własnych szkoleń BHP. Napisz do nas – dokładny program prześlemy Ci na maila. \nCzy po ukończeniu szkolenia otrzymuję certyfikat?\nTak. Po ukończeniu szkolenia oraz pozytywnym zaliczeniu testu końcowego uczestnicy otrzymują imienne zaświadczenie\, potwierdzające kwalifikacje do prowadzenia szkoleń z bezpiecznego stosowania diizocyjanianów zgodnie z REACH. \nCzy podczas szkolenia online kamera jest obowiązkowa?\nNie. Udział w szkoleniu nie wymaga korzystania z kamery – kamera nie jest obowiązkowa. \nSzkolenie odbywa się w formie szkolenia online na żywo na platformie ZOOM. Wystarczy możliwość słuchania szkolenia w czasie rzeczywistym oraz udział w teście końcowym. \nZgodnie z wymaganiami rozporządzenia REACH szkolenie powinno odbywać się z udziałem trenera\, z możliwością zadawania pytań i weryfikacji wiedzy. Z tego względu szkolenie realizowane jest w formie zajęć na żywo – nie prowadzimy szkolenia wyłącznie w formie materiałów i testu bez udziału w zajęciach. \nPytania można zadawać w trakcie szkolenia – przez mikrofon lub na czacie. \nJak można się zarejestrować na szkolenie i jakie są warunki odwołania?\nRejestracja na szkolenie odbywa się poprzez formularz zgłoszeniowy online dostępny na stronie wydarzenia. \nOrganizator zastrzega sobie prawo do odwołania szkolenia w przypadku nieosiągnięcia minimalnej liczby uczestników.\nW takiej sytuacji uczestnicy zostaną poinformowani niezwłocznie\, a dokonane płatności zostaną: \n\nzwrócone w całości lub\nprzeniesione na inny termin szkolenia (za zgodą uczestnika).
URL:https://haz-con.com/szkolenia/szkolenie-zawodowe-dla-specjalistow-ds-bhp-diizocyjaniany-online-3/
LOCATION:On-line (ZOOM)\, Poland
CATEGORIES:DIIZO
ATTACH;FMTTYPE=image/png:https://haz-con.com/wp-content/uploads/2026/01/DIIZO-ONLINE-PROMO.png
END:VEVENT
END:VCALENDAR