BEGIN:VCALENDAR
VERSION:2.0
PRODID:-//Firma Ppoż HAZ-CON - ECPv6.15.18//NONSGML v1.0//EN
CALSCALE:GREGORIAN
METHOD:PUBLISH
X-WR-CALNAME:Firma Ppoż HAZ-CON
X-ORIGINAL-URL:https://haz-con.com
X-WR-CALDESC:Wydarzenia dla Firma Ppoż HAZ-CON
REFRESH-INTERVAL;VALUE=DURATION:PT1H
X-Robots-Tag:noindex
X-PUBLISHED-TTL:PT1H
BEGIN:VTIMEZONE
TZID:Europe/Warsaw
BEGIN:DAYLIGHT
TZOFFSETFROM:+0100
TZOFFSETTO:+0200
TZNAME:CEST
DTSTART:20250330T010000
END:DAYLIGHT
BEGIN:STANDARD
TZOFFSETFROM:+0200
TZOFFSETTO:+0100
TZNAME:CET
DTSTART:20251026T010000
END:STANDARD
BEGIN:DAYLIGHT
TZOFFSETFROM:+0100
TZOFFSETTO:+0200
TZNAME:CEST
DTSTART:20260329T010000
END:DAYLIGHT
BEGIN:STANDARD
TZOFFSETFROM:+0200
TZOFFSETTO:+0100
TZNAME:CET
DTSTART:20261025T010000
END:STANDARD
BEGIN:DAYLIGHT
TZOFFSETFROM:+0100
TZOFFSETTO:+0200
TZNAME:CEST
DTSTART:20270328T010000
END:DAYLIGHT
BEGIN:STANDARD
TZOFFSETFROM:+0200
TZOFFSETTO:+0100
TZNAME:CET
DTSTART:20271031T010000
END:STANDARD
END:VTIMEZONE
BEGIN:VEVENT
DTSTART;TZID=Europe/Warsaw:20261008T090000
DTEND;TZID=Europe/Warsaw:20261016T150000
DTSTAMP:20260423T202448
CREATED:20260313T091142Z
LAST-MODIFIED:20260313T092503Z
UID:2100-1791450000-1792162800@haz-con.com
SUMMARY:KURS ON-LINE „REACH COORDINATOR LEVEL 1"
DESCRIPTION:REACH COORDINATOR LEVEL 1\nREACH COORDINATOR LEVEL 1 to kurs przygotowujący specjalistów do pracy w obszarze compliance chemicznego i regulacji REACH w przedsiębiorstwach działających w Unii Europejskiej. \nZostań specjalistą ds. compliance chemicznego w przemyśle\n📅 8–9 oraz 15–16 października 2026 | szkolenie online \nREACH COORDINATOR LEVEL 1 – przyszłość zawodu w regulatory affairs\nRegulacje chemiczne w Unii Europejskiej należą dziś do najbardziej złożonych systemów prawnych na świecie. \nFirmy produkcyjne\, technologiczne i dystrybucyjne muszą spełniać wymagania wynikające z takich regulacji jak REACH\, CLP\, SCIP\, PCN\, RoHS\, PIC\, UK REACH. \nKażda zmiana przepisów oznacza konieczność analizy substancji chemicznych\, aktualizacji dokumentacji\, weryfikacji dostawców i raportowania danych. \nDlatego w firmach powstaje nowa rola zawodowa: \nSpecjalista ds. compliance chemicznego\nOsoba\, która rozumie regulacje chemiczne\, potrafi wdrażać je w praktyce w przedsiębiorstwie\, monitoruje zmiany legislacyjne oraz pełni strategiczną rolę w zarządzaniu zgodnością produktów i łańcucha dostaw. \nNa jakie stanowiska poszukiwani są dziś specjaliści REACH?\nW ostatnich latach pojawia się coraz więcej ofert pracy w obszarze regulacji chemicznych. \nNajczęściej spotykane stanowiska to: Regulatory Affairs Specialist – Chemicals\, REACH Compliance Engineer; Chemical Regulatory Specialist. \nStanowiska te pojawiają się w takich branżach jak: \n\nprzemysł chemiczny\nautomotive\nlotnictwo\nprodukcja elektroniki\nprzemysł kosmetyczny\nprzemysł farb i powłok\nprzemysł materiałów i tworzyw\n\nDlaczego firmy potrzebują takich specjalistów?\nWraz ze wzrostem liczby regulacji rośnie zapotrzebowanie na osoby\, które potrafią: \n\nanalizować przepisy chemiczne\ninterpretować wymagania regulacyjne\nwdrażać je w praktyce w przedsiębiorstwie\nwspółpracować z dostawcami i partnerami biznesowymi\nzarządzać dokumentacją chemiczną\n\nSpecjaliści łączący wiedzę chemiczną\, technologiczną i regulacyjną stają się jednym z kluczowych elementów funkcjonowania nowoczesnych przedsiębiorstw. \nInwestycja w kompetencje przyszłości\nZrozumienie systemu regulacji chemicznych nie jest już kompetencją niszową – staje się jedną z podstawowych umiejętności w wielu branżach przemysłowych. \nOsoby posiadające wiedzę w obszarze REACH\, CLP\, PCN\, SCIP oraz nowych kierunków regulacyjnych zyskują znaczącą przewagę na rynku pracy. \nKurs REACH COORDINATOR LEVEL 1 został stworzony właśnie po to\, aby przygotować uczestników do funkcjonowania w tym dynamicznie rozwijającym się obszarze. \nDlaczego specjalista REACH będzie jednym z najbardziej poszukiwanych zawodów w przemyśle do 2030 roku\nEuropejski system regulacji chemicznych wchodzi obecnie w okres największych zmian od momentu wprowadzenia rozporządzenia REACH. \nW najbliższych latach przedsiębiorstwa działające w Unii Europejskiej będą musiały zmierzyć się z nową falą regulacji obejmujących nie tylko chemikalia\, ale również materiały\, produkty i cały łańcuch dostaw. \nOznacza to jedno:firmy będą potrzebowały coraz więcej specjalistów\, którzy potrafią zarządzać zgodnością chemiczną. \nREACH COORDINATOR LEVEL 1\nkurs przygotowujący do pracy w obszarze compliance chemicznego\nProgram kursu został opracowany tak\, aby połączyć wiedzę regulacyjną z praktyką stosowaną w przedsiębiorstwach. \nPodczas szkolenia poznasz: \n\nstrukturę systemu regulacji chemicznych w UE\nobowiązki wynikające z REACH\nobowiązki wynikające z CLP\nsystem zgłoszeń PCN i identyfikatory UFI\nraportowanie substancji w bazie SCIP\npodstawy zarządzania kartami charakterystyki\nwpływ regulacji na łańcuch dostaw\nnajnowsze zmiany w przepisach chemicznych i skąd o nich się dowiedzieć\n\nNowe kierunki regulacyjne – przyszłość compliance chemicznego\nProgram kursu obejmuje nie tylko obowiązujące regulacje takie jak REACH\, CLP\, PCN czy SCIP\, ale również najnowsze kierunki rozwoju europejskiej polityki chemicznej. \nPodczas szkolenia omawiane są również nowe koncepcje regulacyjne\, które w najbliższych latach będą miały coraz większe znaczenie dla przedsiębiorstw. \nNależą do nich między innymi: \nSafe and Sustainable by Design (SSbD)podejście promowane przez Komisję Europejską\, którego celem jest projektowanie substancji i materiałów w sposób bezpieczny dla zdrowia ludzi i środowiska już na etapie ich powstawania. \nNAMs – New Approach Methodologiesnowoczesne metody oceny bezpieczeństwa chemikaliów\, które stopniowo zastępują tradycyjne testy toksykologiczne i odgrywają coraz większą rolę w procesach oceny ryzyka. \nZrozumienie tych koncepcji pozwala lepiej przygotować się na przyszłe zmiany regulacyjne w Europie. \n\nREACH COORDINATOR LEVEL 1 – program szkolenia\nSzczegółowy program kursu dostępny jest na zapytanie. \nOsoby zainteresowane udziałem w szkoleniu mogą otrzymać pełny opis modułów szkoleniowych po przesłaniu zapytania poprzez formularz kontaktowy. \nStruktura programu szkoleniowego\nKurs REACH COORDINATOR LEVEL 1 stanowi pierwszy etap programu szkoleniowego.\nTen poziom koncentruje się przede wszystkim na: \n\nzrozumieniu systemu regulacji chemicznych w Unii Europejskiej\npoznaniu obowiązków przedsiębiorstw wynikających z przepisów\nanalizie najważniejszych narzędzi i procesów compliance\n\nJest to część teoretyczna\, która stanowi fundament do dalszej pracy w obszarze regulacji chemicznych. \nKolejny etap: REACH COORDINATOR LEVEL 2\nNa początku 2027 roku planowane jest uruchomienie drugiego poziomu kursu. \nREACH COORDINATOR LEVEL 2 będzie miał charakter w pełni warsztatowy i będzie koncentrował się na pracy z narzędziami wykorzystywanymi w praktyce przez specjalistów regulatory affairs. \nPlanowane zagadnienia obejmują między innymi: \n\npracę z systemem IUCLID\nprzygotowanie dokumentacji w REACH-IT\nzgłoszenia PCN\nraportowanie w systemie SCIP\npodstawy pracy z narzędziami oceny bezpieczeństwa chemicznego\n\nDrugi poziom kursu będzie naturalną kontynuacją wiedzy zdobytej podczas szkolenia LEVEL 1. \nREACH COORDINATOR LEVEL 1 – dla kogo jest ten kurs?\nKurs REACH COORDINATOR LEVEL 1 został zaprojektowany dla osób\, które w swojej pracy mają kontakt z chemikaliami\, dokumentacją bezpieczeństwa lub regulacjami dotyczącymi produktów chemicznych i materiałów. \nSzkolenie jest szczególnie wartościowe dla: \nSpecjalistów BHP i EHSodpowiedzialnych za bezpieczeństwo chemiczne i zgodność regulacyjną w przedsiębiorstwie. \nSpecjalistów ds. jakości i compliancepracujących w firmach produkcyjnych\, technologicznych i dystrybucyjnych. \nChemików\, technologów i inżynierówktórzy chcą poszerzyć kompetencje o obszar regulacji chemicznych. \nSpecjalistów ds. zakupów i łańcucha dostawktórzy odpowiadają za zgodność materiałów i komunikację z dostawcami. \nOsób planujących rozwój kariery w obszarze regulatory affairsoraz compliance chemicznego w przedsiębiorstwach działających na rynku europejskim. \nCzego dotyczy szkolenie?\nKurs koncentruje się na praktycznym zrozumieniu systemu regulacji chemicznych w Unii Europejskiej oraz na roli specjalisty\, który monitoruje zmiany legislacyjne i wdraża je w przedsiębiorstwie. \nPodczas szkolenia omawiane są między innymi: \n\nrozporządzenie REACH\nrozporządzenie CLP\nzgłoszenia PCN i identyfikator UFI\nraportowanie w bazie SCIP\nzarządzanie kartami charakterystyki\nwspółpraca z dostawcami i zbieranie danych regulacyjnych\nnowe kierunki regulacyjne\, takie jak Safe and Sustainable by Design (SSbD) oraz NAMs\n\nSzkolenie pokazuje nie tylko przepisy\, ale również ich znaczenie w codziennej pracy przedsiębiorstw przemysłowych. \n\n🎓 REACH COORDINATOR LEVEL 1 – forma szkolenia\n\nszkolenie online na żywo\ninteraktywne prezentacje i przykłady praktyczne\nsesje pytań i odpowiedzi\nmateriały szkoleniowe\ndostęp do zamkniętej społeczności uczestników\n\nDlaczego warto wziąć udział?\nSystem regulacji chemicznych w Europie dynamicznie się rozwija.Firmy potrzebują specjalistów\, którzy: \n\nrozumieją przepisy\npotrafią śledzić zmiany legislacyjne\npotrafią wdrażać wymagania regulacyjne w praktyce\n\nKompetencje w zakresie REACH\, CLP i zarządzania compliance chemicznym stają się coraz bardziej poszukiwane w przemyśle. \nKurs REACH COORDINATOR LEVEL 1 został stworzony\, aby pomóc uczestnikom zdobyć fundament wiedzy potrzebnej do pełnienia tej roli. \n\n📅 Termin szkolenia\n8–9 października 2026\n15–16 października 2026\nPierwsza edycja kursu REACH COORDINATOR LEVEL 1 odbędzie się jesienią 2026 roku w formule czterodniowego szkolenia online podzielonego na dwa bloki szkoleniowe. \nSzkolenie zostało zaprojektowane w taki sposób\, aby umożliwić uczestnikom efektywne przyswajanie wiedzy oraz jej utrwalenie pomiędzy poszczególnymi modułami. \nKurs realizowany jest w układzie: \n2 dni szkoleniowe → przerwa → 2 dni szkoleniowe \nTaka struktura pozwala uczestnikom: \n\nuporządkować zdobytą wiedzę po pierwszej części szkolenia\npowtórzyć najważniejsze zagadnienia\nprzygotować pytania do kolejnych modułów\nłatwiej przyswoić bardziej zaawansowane tematy omawiane w drugiej części kursu\n\nDzięki temu uczestnicy nie tylko poznają regulacje\, ale mają również czas na refleksję nad ich zastosowaniem w swojej codziennej pracy zawodowej. \nSzkolenie prowadzone jest w kameralnej grupie\, co umożliwia aktywną dyskusję oraz zadawanie pytań podczas sesji Q&A. \nLiczba miejsc\nSzkolenie odbywa się w ograniczonej grupie uczestników\, aby zapewnić możliwość pracy na przykładach i zadawania pytań. \nCena szkolenia\nCena udziału w kursie REACH COORDINATOR LEVEL 1 wynosi: \n2500 zł netto + 23% VAT \nRabaty\n10% rabatu – przy zgłoszeniu więcej niż jednej osoby z tej samej firmy. \nEarly Bird – 2000 zł netto + VATdla osób zapisujących się do 1 lipca 2026 r. \nMożliwość udziału w pojedynczym bloku szkolenia\nSzkolenie podzielone jest na dwa bloki szkoleniowe (2 + 2 dni). \nIstnieje możliwość zapisania się wyłącznie na jeden blok szkolenia (2 dni)\, jeżeli dany zakres tematyczny jest szczególnie istotny dla uczestnika. \nUdział w pojedynczym bloku możliwy jest po wcześniejszym uzgodnieniu z organizatorem. \nW celu ustalenia szczegółów prosimy o kontakt poprzez formularz na stronie lub wiadomość e-mail. \nNapisz do nas – pomożemy dobrać odpowiedni zakres szkolenia. \nPłatności\nOsoby prywatne \npłatność online 7 dni przed rozpoczęciem szkolenia \nFirmy \nfaktura VATtermin płatności 14 dni \nZapis na kurs\nJeżeli chcesz rozwijać swoją karierę w obszarze compliance chemicznego i zdobyć kompetencje poszukiwane w przemyśle\, zapisz się na kurs REACH COORDINATOR LEVEL 1. \nMasz po prostu pytania? Napisz do nas na maila. \n📩 Wypełnij formularz zgłoszeniowy i zarezerwuj miejsce. \nAby wypełnić ten formularz\, włącz obsługę JavaScript w przeglądarce.Aby wypełnić ten formularz\, włącz obsługę JavaScript w przeglądarce.Imię i nazwisko *PierwszyOstatniAdres e-mail *Nr tel *Status uczestnika *osoba prywatnafirmaNazwa firmy (dotyczy statusu uczestnika FIRMA)Adres *NIP (dotyczy statusu uczestnika FIRMA)Stanowisko / rola zawodowaBranżachemicznakosmetycznadetergentowafarby i powłokitworzywa sztuczneautomotivelotniczaelektronicznaBHP / EHScompliance / regulatoryuczelniainnaWybierz zakres udziału w szkoleniu *cały kurs REACH COORDINATOR LEVEL 1tylko blok 1 po wcześniejszym uzgodnieniu z organizatoremtylko blok 2 po wcześniejszym uzgodnieniu z organizatorem		\n			/ – kontakt\n			\n		\n		Termin kursu *8–9 października 2026 oraz 15–16 października 20261 blok z 2Czy zgłaszasz więcej niż 1 osobę z firmy *taknieJeśli tak podaj liczbę uczestnikówRodzaj cenycena standardowa 2500 zł netto + 23% VATearly bird 2000 zł netto + 23% VAT do 01.07.2026zgłoszenie więcej niż 1 osoby z firmy – proszę o kontakt w sprawie rabatu 10%Skąd dowiedziałeś / dowiedziałaś się o kursieLinkedInFacebookstrona internetowapolecenienewsletterinneCzy jesteś zainteresowany kolejnym poziomem szkolenia Level 2 – warsztaty praktyczne 2027takniechcę otrzymać informacjeWiadomość do organizatoraZgoda na kontakt *Wyrażam zgodę na kontakt ze strony organizatora w sprawach związanych z obsługą zgłoszenia i organizacją szkolenia.Wyrażam zgodę na kontakt ze strony organizatora w sprawach związanych z obsługą zgłoszenia i organizacją szkolenia.Zgoda na przetwarzanie danych osobowych *Wyrażam zgodę na przetwarzanie moich danych osobowych w celu realizacji zgłoszenia na szkolenie zgodnie z polityką prywatności.Wyrażam zgodę na przetwarzanie moich danych osobowych w celu realizacji zgłoszenia na szkolenie zgodnie z polityką prywatności.Oświadczenie organizacyjne *Przyjmuję do wiadomości że zapis na pojedynczy blok szkolenia wymaga wcześniejszego uzgodnienia z organizatorem.Przyjmuję do wiadomości że zapis na pojedynczy blok szkolenia wymaga wcześniejszego uzgodnienia z organizatorem.Zapisz mnie na kurs
URL:https://haz-con.com/szkolenia/kurs-on-line-reach-coordinator-level-1/
LOCATION:On-line (ZOOM)\, Poland
CATEGORIES:KURS REACH
ATTACH;FMTTYPE=image/png:https://haz-con.com/wp-content/uploads/2026/03/REACH-LVL-1.png
ORGANIZER;CN="HAZ-CON MAGDALENA HYLA":MAILTO:akademia@haz-con.com
END:VEVENT
END:VCALENDAR