BEGIN:VCALENDAR
VERSION:2.0
PRODID:-//Firma Ppoż HAZ-CON - ECPv6.15.18//NONSGML v1.0//EN
CALSCALE:GREGORIAN
METHOD:PUBLISH
X-ORIGINAL-URL:https://haz-con.com
X-WR-CALDESC:Wydarzenia dla Firma Ppoż HAZ-CON
REFRESH-INTERVAL;VALUE=DURATION:PT1H
X-Robots-Tag:noindex
X-PUBLISHED-TTL:PT1H
BEGIN:VTIMEZONE
TZID:Europe/Warsaw
BEGIN:DAYLIGHT
TZOFFSETFROM:+0100
TZOFFSETTO:+0200
TZNAME:CEST
DTSTART:20250330T010000
END:DAYLIGHT
BEGIN:STANDARD
TZOFFSETFROM:+0200
TZOFFSETTO:+0100
TZNAME:CET
DTSTART:20251026T010000
END:STANDARD
BEGIN:DAYLIGHT
TZOFFSETFROM:+0100
TZOFFSETTO:+0200
TZNAME:CEST
DTSTART:20260329T010000
END:DAYLIGHT
BEGIN:STANDARD
TZOFFSETFROM:+0200
TZOFFSETTO:+0100
TZNAME:CET
DTSTART:20261025T010000
END:STANDARD
BEGIN:DAYLIGHT
TZOFFSETFROM:+0100
TZOFFSETTO:+0200
TZNAME:CEST
DTSTART:20270328T010000
END:DAYLIGHT
BEGIN:STANDARD
TZOFFSETFROM:+0200
TZOFFSETTO:+0100
TZNAME:CET
DTSTART:20271031T010000
END:STANDARD
END:VTIMEZONE
BEGIN:VEVENT
DTSTART;TZID=Europe/Warsaw:20260424T090000
DTEND;TZID=Europe/Warsaw:20260424T150000
DTSTAMP:20260423T140755
CREATED:20260107T101107Z
LAST-MODIFIED:20260119T114442Z
UID:1984-1777021200-1777042800@haz-con.com
SUMMARY:Substancje CMR – rakotwórcze\, mutagenne\, reprotoksyczne (online)
DESCRIPTION:Termin: 24 kwietnia 2026 r.Godzina: 9:00–15:00Forma: szkolenie online (ZOOM – na żywo) \n\nProfesjonalne szkolenie dla kadry BHP – substancje CMR zgodnie z aktualnymi przepisami prawa\nZapraszamy na specjalistyczne szkolenie online dla Specjalistów ds. BHP\, poświęcone substancjom rakotwórczym\, mutagennym i reprotoksycznym (CMR)\, prowadzone zgodnie z aktualnymi wymaganiami prawa pracy\, przepisami BHP oraz przepisami chemicznymi (CLP\, REACH). \nSzkolenie przygotowuje do samodzielnej oceny ryzyka\, dokumentowania narażenia oraz prawidłowego zarządzania substancjami CMR w zakładzie pracy\, w tym do przygotowania zakładu na kontrole PIP\, PIS i innych organów nadzoru. \nSzkolenie prowadzone jest przez eksperta z wieloletnim doświadczeniem w bezpieczeństwie chemicznym i BHP. \nPo ukończeniu szkolenia uczestnicy otrzymują imienne zaświadczenie potwierdzające udział w szkoleniu zawodowym z zakresu CMR. \n\nNajważniejsze informacje organizacyjne\nForma: online (ZOOM – szkolenie na żywo)Zaświadczenie: imienneCzas trwania: 6 godzinGrupa docelowa:– Specjaliści i inspektorzy ds. BHP– pracodawcy i osoby zarządzające– osoby odpowiedzialne za substancje chemiczneCharakter szkolenia: zawodowy / ekspercki \n\nCena szkolenia\n850 zł netto + 23% VAT (1045\,50 zł brutto) \n765 zł netto/os. + VAT – przy zgłoszeniu więcej niż 1 osoby z firmy \nPłatności:\n• osoby prywatne – płatność online (Tpay) najpóźniej 1 dzień przed szkoleniem• firmy – faktura VAT\, termin płatności 14 dni \n\nCel szkolenia – dlaczego to szkolenie jest niezbędne?\nObowiązki związane z substancjami rakotwórczymi\, mutagennymi i reprotoksycznymi (CMR) wynikają bezpośrednio z przepisów prawa pracy\, w szczególności: \n\nKodeksu pracy\nrozporządzenia w sprawie czynników rakotwórczych\, mutagennych i reprotoksycznych\n\nPracodawca ma obowiązek identyfikacji substancji CMR\, oceny ryzyka zawodowego\, ograniczania narażenia pracowników oraz prowadzenia odpowiedniej dokumentacji\, w tym rejestrów narażenia. \nNa szkoleniu dowiesz się: \n\njak rozpoznać substancje CMR\,\njakie obowiązki formalne spoczywają na pracodawcy i BHP\,\njak prawidłowo ocenić narażenie pracowników\,\njakie dokumenty są wymagane i jak je prowadzić\,\nna co zwracają uwagę organy kontrolne.\n\n\nProgram szkolenia obejmuje m.in.:\n\ndefinicję i klasyfikację substancji CMR\npodstawy prawne dotyczące substancji rakotwórczych\, mutagennych i reprotoksycznych\nzagrożenia zdrowotne związane z narażeniem na CMR\nobowiązki pracodawcy i służby BHP\nocenę ryzyka zawodowego przy narażeniu na CMR\nocenę i dokumentowanie narażenia pracowników\nhierarchię środków ochronnych (eliminacja\, zastąpienie\, środki techniczne\, organizacyjne\, ŚOI)\nwymagane dokumenty:– ocena ryzyka– procedury– rejestry narażenia\nwspółpracę z medycyną pracy\nprzygotowanie zakładu do kontroli PIP / PIS\ncase studies z praktyki zakładów pracy\n\n\nEfekty uczenia się (Learning Outcomes)\nPo ukończeniu szkolenia uczestnik: \n\nzna aktualne wymagania prawne dotyczące substancji CMR\npotrafi identyfikować substancje rakotwórcze\, mutagenne i reprotoksyczne\npotrafi ocenić ryzyko i narażenie pracowników\nrozumie obowiązki pracodawcy i służby BHP\npotrafi prawidłowo prowadzić dokumentację CMR\njest przygotowany do praktycznego zarządzania CMR w zakładzie pracy\n\n\nHarmonogram szkolenia\n🕘 9:00–15:00w tym:• 2 × 15 minut przerwy• 1 × 30 minut przerwy \n\nProwadząca\nMagdalena Hyla – Ekspert ds. bezpieczeństwa chemicznego \nEkspertka z ponad 11-letnim doświadczeniem w zakresie bezpieczeństwa chemicznego\, zarządzania substancjami i mieszaninami chemicznymi\, oceny ryzyka zawodowego oraz dokumentacji BHP i PPOŻ. \nSpecjalizuje się w: \n\nsubstancjach niebezpiecznych i CMR\,\nregulacjach REACH i CLP\,\nszkoleniach zawodowych dla BHP\,\npraktycznym wdrażaniu wymagań prawnych w zakładach pracy.\n\n\n⭐ Opinie uczestników szkoleń\n„Pani Magdaleno\, serdecznie dziękuję za wspaniałe i bardzo merytoryczne szkolenie.\nPrzekazany ogrom wiedzy oraz praktyczne rozwiązania będę wykorzystywać w swojej praktyce zawodowej niejednokrotnie.\nSzkolenie rozjaśniło mi w prosty i przejrzysty sposób wiele problemów\, z którymi spotykałam się w kontakcie z substancjami chemicznymi.\nW przyszłości na pewno skorzystam z organizowanych przez Panią szkoleń.” \n— Pani Agnieszka\, uczestniczka szkolenia \n\n\nChcesz prawidłowo zarządzać substancjami CMR w zakładzie pracy?\nPodczas szkolenia dowiesz się: \n\njakie masz obowiązki jako BHP\,\njak prowadzić dokumentację CMR\,\njak zabezpieczyć pracodawcę i siebie podczas kontroli.\n\n👉 Zarejestruj się i zdobądź praktyczną wiedzę ekspercką \n\nRejestracja\nAby zapisać się na szkolenie\, wypełnij formularz zgłoszeniowy poniżej.Po rejestracji otrzymasz potwierdzenie udziału oraz szczegóły organizacyjne. \nOrganizator zastrzega sobie prawo do odwołania szkolenia w przypadku nieosiągnięcia minimalnej liczby uczestników.W takim przypadku: \n\nwpłaty zostaną zwrócone lub\nprzeniesione na inny termin (za zgodą uczestnika).\n\nAby wypełnić ten formularz\, włącz obsługę JavaScript w przeglądarce.Aby wypełnić ten formularz\, włącz obsługę JavaScript w przeglądarce.NAZWA SZKOLENIA *--- Wskaż opcję do wyboru ---Substancje CMR – rakotwórcze\, mutagenne\, reprotoksyczne (online)Szkolenie zawodowe dla Specjalistów ds. BHP – diizocyjaniany (online)Data szkolenia *24.04.202614.10.2026Faktura *TAKNIE		\n			i danych (jeśli\n			\n		\n		Dane adresowe do wystawienia faktury - nazwa firmy\, adres\, NIP (jeśli zaznaczono opcję FAKTURA - TAK)Imię i nazwisko *PierwszyOstatniAdres e-mail do szkolenia on-line *Telefon *Uwagi do zapisu na szkolenie on-line - pytania przed szkoleniemMożesz zostawić nam wiadomość lub pytanie konkretne\, na które ekspert odpowie na szkoleniuZgoda na przetwarzanie danych osobowych w celu zapisu na szkolenie on-line *Wyrażam zgodę na przetwarzanie moich danych w celu realizacji zapisu na szkolenie on-lineWyrażam zgodę na przetwarzanie moich danych osobowych w celu obsługi zgłoszenia i udziału w szkoleniu przez firmę HAZ-CON Magdalena Hyla\, właściciela marki szkoleniowej AKADEMIA INSPEKTORA\, zgodnie z obowiązującymi przepisami RODO. Administratorem danych jest HAZ-CON Magdalena Hyla\, NIP 7471873731. Podanie danych jest dobrowolne\, ale niezbędne do realizacji zgłoszenia. Przysługuje Ci prawo dostępu do treści swoich danych oraz ich poprawiania i usunięcia. Zapisz się na szkolenie on-line
URL:https://haz-con.com/szkolenia/substancje-cmr-rakotworcze-mutagenne-reprotoksyczne-online/
LOCATION:On-line (ZOOM)\, Poland
CATEGORIES:CMR
ATTACH;FMTTYPE=image/png:https://haz-con.com/wp-content/uploads/2026/01/DIIZO-ONLINE-PROMO-2.png
END:VEVENT
BEGIN:VEVENT
DTSTART;TZID=Europe/Warsaw:20260429T190000
DTEND;TZID=Europe/Warsaw:20260429T200000
DTSTAMP:20260423T140755
CREATED:20260416T090234Z
LAST-MODIFIED:20260416T090806Z
UID:2125-1777489200-1777492800@haz-con.com
SUMMARY:WEBINAR ONLINE Wprowadzenie produktu na rynek - na co zwrócić uwagę zanim będzie za późno?
DESCRIPTION:WEBINAR ONLINE\nWprowadzenie produktu na rynek – na co zwrócić uwagę zanim będzie za późno? \n📅 Data: 29.04.2026 (środa)⏱ Godzina: 19:00💻 Forma: webinar online (na żywo\, Zoom)🎟 Udział: bezpłatny – liczba miejsc ograniczona \nDlaczego ten webinar jest ważny?\nWprowadzenie produktu na rynek to często miesiące pracy.Formulacja\, testy\, marketing\, przygotowanie sprzedaży… \nA potem pojawia się jeden problem formalny – i produkt nie może zostać wprowadzony do obrotu. \n👉 brak zgodności z przepisami\,👉 niespójna dokumentacja\,👉 błąd w składzie lub oznakowaniu\,👉 brak wymaganych zgłoszeń. \nW praktyce to nie są „duże błędy”.To są drobne rzeczy\, które pojawiają się na końcu… i zatrzymują cały projekt. \nTen webinar pokazuje\, jak myśleć o produkcie od początku do końca\, żeby uniknąć sytuacji\, w której wszystko jest gotowe – ale sprzedaż jest niemożliwa. \nZakres webinaru\nW tematach poruszymy m.in.: Kwestie przepisów „unijnych” i krajowych Przeznaczenie konsumenckie a przemysłowe Przepisy ogólne vs. Dedykowane do danej kategorii produktu Różnice między państwami członkowskimi EU Compliance design Wymogi wokółproduktowe. \nDla kogo jest ten webinar?\nWebinar przeznaczony jest dla: \n✔ producentów i formulatorów✔ importerów i dystrybutorów✔ specjalistów ds. REACH / CLP / SDS / Regulatory Affairs✔ osób odpowiedzialnych za wprowadzanie produktów na rynek✔ doradców i audytorów \n❗ Webinar ma charakter praktyczny – oparty na rzeczywistych problemach i błędach pojawiających się w procesie wprowadzania produktów. \nCo wyróżnia ten webinar?\n👉 Praca na konkretnym przykładzie – e-liquid do e-papierosa👉 Podejście „od końca” – co blokuje sprzedaż👉 Brak teorii – tylko praktyka i realne przypadki👉 Pokazanie powiązań między różnymi regulacjami \nProwadzący\nMarcin GóreckiWłaściciel firmy „Marcin Górecki – chemia – usługi regulacyjne” \nEkspert ds. regulacji chemicznych z ponad 12-letnim doświadczeniem w zarządzaniu jakością i zgodnością produktów. \nSpecjalizuje się w obszarach: REACH\, CLP\, MSDS\, UFI\, PIC\, RIN oraz dyrektywie tytoniowej (TPD).Pełnomocnik ds. ISO 9001 i 13485. \nNa co dzień wspiera firmy w bezpiecznym i zgodnym z prawem wprowadzaniu produktów na rynek UE. \nPOLITYKA PRYWATNOŚCI WEBINARY \nREGULAMIN WEBINAR 29.04.2026
URL:https://haz-con.com/szkolenia/webinar-online-wprowadzenie-produktu-na-rynek-na-co-zwrocic-uwage-zanim-bedzie-za-pozno/
LOCATION:On-line (ZOOM)\, Poland
CATEGORIES:webinar
ATTACH;FMTTYPE=image/png:https://haz-con.com/wp-content/uploads/2026/04/DIIZO-ONLINE-PROMO-7.png
END:VEVENT
END:VCALENDAR