BEGIN:VCALENDAR
VERSION:2.0
PRODID:-//Firma Ppoż HAZ-CON - ECPv6.15.18//NONSGML v1.0//EN
CALSCALE:GREGORIAN
METHOD:PUBLISH
X-ORIGINAL-URL:https://haz-con.com
X-WR-CALDESC:Wydarzenia dla Firma Ppoż HAZ-CON
REFRESH-INTERVAL;VALUE=DURATION:PT1H
X-Robots-Tag:noindex
X-PUBLISHED-TTL:PT1H
BEGIN:VTIMEZONE
TZID:Europe/Warsaw
BEGIN:DAYLIGHT
TZOFFSETFROM:+0100
TZOFFSETTO:+0200
TZNAME:CEST
DTSTART:20250330T010000
END:DAYLIGHT
BEGIN:STANDARD
TZOFFSETFROM:+0200
TZOFFSETTO:+0100
TZNAME:CET
DTSTART:20251026T010000
END:STANDARD
BEGIN:DAYLIGHT
TZOFFSETFROM:+0100
TZOFFSETTO:+0200
TZNAME:CEST
DTSTART:20260329T010000
END:DAYLIGHT
BEGIN:STANDARD
TZOFFSETFROM:+0200
TZOFFSETTO:+0100
TZNAME:CET
DTSTART:20261025T010000
END:STANDARD
BEGIN:DAYLIGHT
TZOFFSETFROM:+0100
TZOFFSETTO:+0200
TZNAME:CEST
DTSTART:20270328T010000
END:DAYLIGHT
BEGIN:STANDARD
TZOFFSETFROM:+0200
TZOFFSETTO:+0100
TZNAME:CET
DTSTART:20271031T010000
END:STANDARD
END:VTIMEZONE
BEGIN:VEVENT
DTSTART;TZID=Europe/Warsaw:20260325T190000
DTEND;TZID=Europe/Warsaw:20260325T200000
DTSTAMP:20260423T202613
CREATED:20260303T150152Z
LAST-MODIFIED:20260303T152530Z
UID:2082-1774465200-1774468800@haz-con.com
SUMMARY:WEBINAR ONLINE "Dlaczego karta charakterystyki może nie przejść kontroli – najczęstsze niezgodności w praktyce"
DESCRIPTION:WEBINAR ONLINE\nDlaczego karta charakterystyki może nie przejść kontroli – najczęstsze niezgodności w praktyce\n📅 Data: 25.03.2026⏱ Czas trwania: 60 minut💻 Forma: webinar online (na żywo\, Zoom)🎟 Cena: za darmo – ograniczona liczba miejsc \n\nDlaczego ten webinar jest ważny?\nKarta charakterystyki jest jednym z kluczowych dokumentów w obszarze obrotu chemikaliami. \nKontrola nie polega na ogólnym przeglądzie dokumentu.Weryfikowane są konkretne elementy – ich spójność\, aktualność oraz zgodność z wymaganiami załącznika II do rozporządzenia REACH oraz rozporządzenia CLP. \nW praktyce niezgodności najczęściej wynikają nie z braku wiedzy\, lecz z braku systemowego podejścia do tworzenia i aktualizacji SDS. \nWebinar ma na celu przeanalizowanie\, jak organy nadzoru czytają kartę charakterystyki oraz które elementy dokumentu najczęściej budzą zastrzeżenia. \n\nZakres webinaru\n🔎 Karta charakterystyki w praktyce kontroli \n– schemat analizy SDS przez organy nadzoru\,– które sekcje są weryfikowane w pierwszej kolejności\,– jak oceniana jest spójność dokumentu\,– kiedy niezgodność może skutkować dalszymi działaniami administracyjnymi. \n\n📋 Klasyfikacja i skład \n– relacja między sekcją 2 i 3\,– stosowanie przedziałów stężeń w praktyce\,– interpretacja wymagań wynikających z rozporządzenia (UE) 2020/878. \n\n⚖️ Spójność sekcji  \n– powiązanie klasyfikacji z opisem skutków narażenia\,– środki ochrony indywidualnej w kontekście realnych zagrożeń\,– najczęstsze niespójności wykazywane podczas kontroli. \n\n📝 Aktualizacja SDS – obowiązek i zakres \n– zmiany wynikające z nowych klasyfikacji zharmonizowanych (CLH)\,– kiedy aktualizacja jest obowiązkowa\,– różnica między aktualizacją formalną a merytoryczną. \n\nDla kogo jest ten webinar?\nWebinar przeznaczony jest dla: \n\nspecjalistów ds. REACH / CLP / SDS / Regulatory Affairs\,\nosób tworzących karty charakterystyki\,\nproducentów i formulatorów\,\nimporterów i dystrybutorów\,\ndoradców regulacyjnych oraz audytorów.\n\n❗ Webinar ma charakter ekspercki – zakłada znajomość podstaw wymagań dot. treści karty charakterystyki wynikającej z rozp. 2020/878. \n\nProwadząca\nMagdalena HylaInż. Procesów ChemicznychSpecjalista ds. bezpieczeństwa chemikaliówPraktyk REACH / CLP / UFI11 lat pracy z dokumentacją chemiczną i kontrolami.
URL:https://haz-con.com/szkolenia/webinar-online-dlaczego-karta-charakterystyki-moze-nie-przejsc-kontroli-najczestsze-niezgodnosci-w-praktyce/
LOCATION:On-line (ZOOM)\, Poland
CATEGORIES:webinar
ATTACH;FMTTYPE=image/png:https://haz-con.com/wp-content/uploads/2026/03/DIIZO-ONLINE-PROMO-5.png
ORGANIZER;CN="HAZ-CON MAGDALENA HYLA":MAILTO:akademia@haz-con.com
END:VEVENT
END:VCALENDAR